BEGIN:VCALENDAR
VERSION:2.0
METHOD:PUBLISH
PRODID:-//Accessible Web Design//My Calendar//http://www.joedolson.com//v//EN';
BEGIN:VEVENT
UID:420-408
LOCATION:
SUMMARY:Essen
DTSTAMP:20251128T110000
ORGANIZER;CN=ML:MAILTO:justus_j@gmx.net
DTSTART:20251128T110000
DTEND:20251128T130000
CATEGORIES:General
URL;VALUE=URI:http://www.saxophon-livemusik.de/my-calendar/?cid=my-calendar&#038;mc_id=420&#038;vcal=420
DESCRIPTION;ENCODING=QUOTED-PRINTABLE:
END:VEVENT
END:VCALENDAR